BEGIN:VCALENDAR
VERSION:2.0
PRODID:-//hacksw/handcal//NONSGML v1.0//EN
BEGIN:VEVENT
SUMMARY:Seance d'essayage des maillots "Fusion" - Bureau CCL
UID:95648189-f1c6-4de5-90ad-8354cc86e1a8
DTSTART:20260311T163000Z
DTEND:20260311T173000Z
LOCATION:Localisation   
CATEGORIES:Administratif
STATUS:
URL;VALUE=URI:https://www.cyclo-club-lambersart.com/evenements/2026/03/11/seance-dessayage-des-maillots-fusion-bureau-ccl-2425508
END:VEVENT
END:VCALENDAR
