BEGIN:VCALENDAR
VERSION:2.0
PRODID:-//hacksw/handcal//NONSGML v1.0//EN
BEGIN:VEVENT
SUMMARY:Seance d'essayage des maillots "Fusion" - Bureau CCL
UID:14636134-9a48-48c0-a618-5e16fdf752d1
DTSTART:20260314T093000Z
DTEND:20260314T110000Z
LOCATION:Localisation   
CATEGORIES:Administratif
STATUS:
URL;VALUE=URI:https://www.cyclo-club-lambersart.com/evenements/2026/03/14/seance-dessayage-des-maillots-fusion-bureau-ccl-2425510
END:VEVENT
END:VCALENDAR
