BEGIN:VCALENDAR
VERSION:2.0
PRODID:-//hacksw/handcal//NONSGML v1.0//EN
BEGIN:VEVENT
SUMMARY:Audax Mont l enclus
UID:507e8aff-698d-4efe-adb8-9c017c2d3da3
DTSTART:20260319T093000Z
DTEND:20260319T160000Z
LOCATION:Localisation Pomme d amour  Lambersart
CATEGORIES:Sportif
STATUS:
DESCRIPTION:<p>Profitons de la meteo clemente pour faire notre
 premier Audax de la
 saison</p>
 
 <p> </p>
 
 <p>https://www.openrunner.com/r/9073707</p>
 
 <p> </p>
URL;VALUE=URI:https://www.cyclo-club-lambersart.com/evenements/2026/03/19/audax-mont-l-enclus-2429709
END:VEVENT
END:VCALENDAR
