BEGIN:VCALENDAR
VERSION:2.0
PRODID:-//hacksw/handcal//NONSGML v1.0//EN
BEGIN:VEVENT
SUMMARY:Wambrechies - Rallye des lilas, traces GPX dans la description
UID:822cd042-fe08-47a0-8c2a-7ae56641495f
DTSTART:20260321T230000Z
DTEND:20260322T230000Z
LOCATION:Localisation complexe sportif jb cibie  wambrechies
CATEGORIES:Sportif
STATUS:
DESCRIPTION:<section id="main-content"><p><b>Rallye des
 Lilas</b></p><p><b>Lieu : </b>Complexe JB sportif, avenue du stade
 a Wambrechies.<br>Distances et departs : Lambersart - sur
 site</p><p>90kms_______________07:45______08 :15 <a
 href="https://www.openrunner.com/route-details/23596392">Trace GPX
 Openrunner</a></p><p>60kms_______________08:00______08 :30 <a
 href="https://www.openrunner.com/route-details/23596415">Trace GPX
 Openrunner</a></p><p>30kms_______________08:30______09 :00 <a
 href="https://www.openrunner.com/route-details/23596433">Trace GPX
 Openrunner</a></p><p> </p><p>3 parcours fleches au choix de 30, 60
 ou 90 km ouverts a tous : le traditionnel Rallye des Lilas fait fi
 de tout esprit de competition pour privilegier le loisir, dans le
 respect du code de la route.</p><ul>	<li>inscriptions de 7h a 9h sur
 place, au complexe sportif, avenue du Stade</li>	<li>departs
 echelonnes de 7h a 9h</li>	<li>frais de participation : 3,50€ par
 personne (donnant droit a un ravitaillement sur le parcours et une
 boisson et un sandwich a l'arrivee)</li></ul><p>parking
 possible</p><p>Contact : ecwm.cyclo@sfr.fr</p></section>
URL;VALUE=URI:https://www.cyclo-club-lambersart.com/evenements/2026/03/22/wambrechies-rallye-des-lilas-traces-gpx-dans-la-description-2422615
END:VEVENT
END:VCALENDAR
