BEGIN:VCALENDAR
VERSION:2.0
PRODID:-//hacksw/handcal//NONSGML v1.0//EN
BEGIN:VEVENT
SUMMARY:Sortie du dimanche
UID:52283d02-3b04-4418-87bf-d1a03e770adf
DTSTART:20260404T220000Z
DTEND:20260405T220000Z
LOCATION:Localisation pomme d'amour  Lambersart
CATEGORIES:Sportif
STATUS:
URL;VALUE=URI:https://www.cyclo-club-lambersart.com/evenements/2026/04/05/sortie-du-dimanche-2435216
END:VEVENT
END:VCALENDAR
